BEGIN:VCALENDAR
VERSION:2.0
PRODID:-//ChamberMaster//Event Calendar 2.0//EN
METHOD:PUBLISH
X-PUBLISHED-TTL:P3D
REFRESH-INTERVAL:P3D
CALSCALE:GREGORIAN
BEGIN:VEVENT
DTSTART:20221122T130000Z
DTEND:20221123T020000Z
X-MICROSOFT-CDO-ALLDAYEVENT:FALSE
SUMMARY:2022 Thanksgiving Community Breakfast
DESCRIPTION:2022 \n\nTHANKSGIVING COMMUNITY BREAKFAST\n\nPresented by: \n\nMercy Health - Anderson Hospital \n\nAnderson Area Chamber of Commerce\n\n \n\nSpeaker:  Melissa Kirkpatrick\, Find Your Own Drive\, Transformational Coach and \n\nMotivational Speaker\n\n \n\nTopic:  Mindset and Motivation for Moving Forward \n\n\n\n\n \n\nWe look forward to giving thanks with area businesses\, community partners\, friends and neighbors.
X-ALT-DESC;FMTTYPE=text/html:<div style="text-align: center\;"><span style="color:#ff9933\;"><strong><span style="font-size:22px\;"><span style="font-family:arial\;">2022&nbsp\;<br />\nTHANKSGIVING COMMUNITY BREAKFAST</span></span></strong></span></div>\n\n<div style="text-align: center\;"><span style="color:#666633\;"><span style="font-size:18px\;"><span style="font-family:arial\;">Presented by:&nbsp\;</span></span><br />\n<span style="font-family: arial\; font-size: 14px\; text-align: center\; background-color: rgb(255\, 255\, 255)\;">Mercy Health - Anderson Hospital</span><span style="font-size:18px\;"><span style="font-family:arial\;"> </span></span></span></div>\n\n<div style="text-align: center\;"><span style="color:#666633\;"><span style="font-family: arial\; font-size: 14px\; text-align: center\; background-color: rgb(255\, 255\, 255)\;">Anderson Area Chamber of Commerce</span></span><br />\n&nbsp\;</div>\n\n<div><span style="color:#000000\;"><span style="font-family: arial\; font-size: 14px\; text-align: center\; background-color: rgb(255\, 255\, 255)\;"><strong>Speaker:&nbsp\;</strong> Melissa Kirkpatrick\,&nbsp\;</span><span style="font-size:14px\;"><span style="font-family:arial\;"><span style="text-align: center\; white-space: pre-wrap\;">Find Your Own Drive\, </span><span style="text-align: center\; white-space: pre-wrap\;">Transformational Coach and </span></span></span></span>\n\n<div style="color: rgb(119\, 119\, 119)\; font-family: Arial\, Verdana\, Helvetica\, sans-serif\; font-size: 14px\; white-space: pre-wrap\; background-color: rgb(255\, 255\, 255)\; text-align: center\;"><span style="color:#000000\;"><span style="font-size:14px\;"><span style="font-family:arial\;">Motivational Speaker</span></span></span><br />\n&nbsp\;</div>\n\n<div style="color: rgb(119\, 119\, 119)\; font-family: Arial\, Verdana\, Helvetica\, sans-serif\; font-size: 14px\; white-space: pre-wrap\; background-color: rgb(255\, 255\, 255)\;"><strong><span style="color:#000000\;"><span style="font-size:14px\;"><span style="font-family:arial\;">Topic: </span></span></span></strong><span style="color:#000000\;"><span style="font-size:14px\;"><span style="font-family:arial\;"> <span style="font-weight: 700\; text-align: center\; white-space: pre-wrap\; background-color: rgb(255\, 255\, 255)\;">Mindset and Motivation for Moving Forward </span></span></span></span></div>\n</div>\n\n<div style="text-align: center\;"><br />\n&nbsp\;</div>\n\n<div style="text-align: center\;"><span style="color:#000000\;"><span style="font-size:14px\;"><span style="font-family:arial\;">We look forward to giving thanks with area businesses\, community partners\, friends and neighbors.&nbsp\;</span></span></span></div>\n\n<div style="text-align: center\;"><br />\n&nbsp\;</div>\n
LOCATION:Mercy Health - Anderson Hospital 7500 State Road Cincinnati\, OH 45255 Park in the garage next to the Emergency Dept (building MOB2). Breakfast is on G level (lowest level). If you park on another level\, just take the elevator in the building to G.
UID:e.873.6214
SEQUENCE:3
DTSTAMP:20260426T013206Z
URL:https://www.andersonareachamber.org/events/details/2022-thanksgiving-community-breakfast-6214
END:VEVENT

END:VCALENDAR
