BEGIN:VCALENDAR
VERSION:2.0
PRODID:-//ChamberMaster//Event Calendar 2.0//EN
METHOD:PUBLISH
X-PUBLISHED-TTL:P3D
REFRESH-INTERVAL:P3D
CALSCALE:GREGORIAN
BEGIN:VEVENT
DTSTART:20230117T140000Z
DTEND:20230117T150000Z
X-MICROSOFT-CDO-ALLDAYEVENT:FALSE
SUMMARY:Breakfast Briefing - January 17\, 2023
DESCRIPTION:In this Breakfast Briefing session\, you will learn about SBA loan programs 7a\, 504 and microloans from guest speaker Jerome W. Jones\, Lender Relations Specialist with the Small Business Administration.
X-ALT-DESC;FMTTYPE=text/html:<span style="font-size:14px\;"><span style="font-family:arial\;">In this Breakfast Briefing session\, you will learn about&nbsp\;SBA loan programs 7a\, 504 and microloans from guest speaker&nbsp\;Jerome W. Jones\,&nbsp\;Lender Relations Specialist with the Small Business Administration.</span></span><br />\n<span style="color: rgb(34\, 34\, 34)\; font-family: Arial\, Helvetica\, sans-serif\; font-size: small\;">&nbsp\;</span>
LOCATION:Anderson Center 7850 Five Mile Rd. Cincinnati\, OH 45230
UID:e.873.6229
SEQUENCE:3
DTSTAMP:20260425T221441Z
URL:https://www.andersonareachamber.org/events/details/breakfast-briefing-january-17-2023-6229
END:VEVENT

END:VCALENDAR
