BEGIN:VCALENDAR
VERSION:2.0
PRODID:-//ChamberMaster//Event Calendar 2.0//EN
METHOD:PUBLISH
X-PUBLISHED-TTL:P3D
REFRESH-INTERVAL:P3D
CALSCALE:GREGORIAN
BEGIN:VEVENT
DTSTART:20230321T130000Z
DTEND:20230321T140000Z
X-MICROSOFT-CDO-ALLDAYEVENT:FALSE
SUMMARY:Breakfast Briefing - March 23\, 2023
DESCRIPTION:Breakfast Briefing\n\nGuest Speaker:\n\nShannon Dager\n\nOperating Principal\n\nCYBERBACKER\n\n \n\nTopic:\n\nSuccessful Remote\n\nWorkforce Solutions\n\nCyberbacker Ohio Valley Region is a franchise managed by Operating Principal\, Shannon Dager. Shannon and her team serve business leadersin Southern Ohio and Kentucky. Cyberbacker is the leading provider of world-class administrative support services from anyone in the world to anyone in the world.
X-ALT-DESC;FMTTYPE=text/html:&nbsp\;\n<div style="color: rgb(0\, 0\, 0)\; font-family: Arial\, Verdana\, Helvetica\, sans-serif\; font-size: 16px\; white-space: pre-wrap\; text-align: center\;"><span style="font-weight: bold\;">Breakfast Briefing<br />\nGuest Speaker:</span></div>\n\n<div style="color: rgb(0\, 0\, 0)\; font-family: Arial\, Verdana\, Helvetica\, sans-serif\; font-size: 16px\; white-space: pre-wrap\; text-align: center\;"><span style="font-size: 18px\; font-weight: bold\;">Shannon Dager</span></div>\n\n<div style="color: rgb(0\, 0\, 0)\; font-family: Arial\, Verdana\, Helvetica\, sans-serif\; font-size: 16px\; white-space: pre-wrap\; text-align: center\;">Operating Principal</div>\n\n<div style="color: rgb(0\, 0\, 0)\; font-family: Arial\, Verdana\, Helvetica\, sans-serif\; font-size: 16px\; white-space: pre-wrap\; text-align: center\;">CYBERBACKER</div>\n\n<div style="color: rgb(0\, 0\, 0)\; font-family: Arial\, Verdana\, Helvetica\, sans-serif\; font-size: 16px\; white-space: pre-wrap\; text-align: center\;">&nbsp\;</div>\n\n<div style="color: rgb(0\, 0\, 0)\; font-family: Arial\, Verdana\, Helvetica\, sans-serif\; font-size: 16px\; white-space: pre-wrap\; text-align: center\;"><span style="font-weight: bold\;">Topic:</span></div>\n\n<div style="color: rgb(0\, 0\, 0)\; font-family: Arial\, Verdana\, Helvetica\, sans-serif\; font-size: 16px\; white-space: pre-wrap\; text-align: center\;"><span style="font-size: 18px\; color: rgb(36\, 36\, 36)\;">Successful Remote</span></div>\n\n<div style="color: rgb(0\, 0\, 0)\; font-family: Arial\, Verdana\, Helvetica\, sans-serif\; font-size: 16px\; white-space: pre-wrap\; text-align: center\;"><span style="font-size: 18px\; color: rgb(36\, 36\, 36)\;">Workforce Solutions</span><br />\n<span style="color: rgb(0\, 0\, 0)\; font-family: Arial\, Verdana\, Helvetica\, sans-serif\; font-size: 14px\; text-align: center\; white-space: pre-wrap\;">Cyberbacker Ohio Valley Region is a franchise managed by Operating Principal\, Shannon Dager. Shannon and her team serve business leadersin Southern Ohio and Kentucky.&nbsp\;Cyberbacker is the leading provider of world-class administrative support services from anyone in the world to anyone in the world.</span></div>\n
LOCATION:Anderson Center 7850 Five Mile Rd. Cincinnati\, OH 45230
UID:e.873.6254
SEQUENCE:3
DTSTAMP:20260425T192602Z
URL:https://www.andersonareachamber.org/events/details/breakfast-briefing-march-23-2023-6254
END:VEVENT

END:VCALENDAR
