BEGIN:VCALENDAR
VERSION:2.0
PRODID:-//ChamberMaster//Event Calendar 2.0//EN
METHOD:PUBLISH
X-PUBLISHED-TTL:P3D
REFRESH-INTERVAL:P3D
CALSCALE:GREGORIAN
BEGIN:VEVENT
DTSTART:20230110T220000Z
DTEND:20230111T000000Z
X-MICROSOFT-CDO-ALLDAYEVENT:FALSE
SUMMARY:Business After Hours
DESCRIPTION:Join us on January 10\, 2023 for a Business After Hours. Enjoy great food\, drink specials\, prizes and networking at Southerby's Pub at the National Exemplar Restaurant.
X-ALT-DESC;FMTTYPE=text/html:<span style="font-size:14px\;"><span style="font-family:arial\;">Join us on January 10\, 2023 for a Business After Hours. Enjoy great food\, drink specials\, prizes and networking at Southerby&#39\;s Pub at the National Exemplar Restaurant.</span></span>
LOCATION:6880 Wooster Pike\, Cincinnati\, OH 45227
UID:e.873.6228
SEQUENCE:3
DTSTAMP:20260425T221254Z
URL:https://www.andersonareachamber.org/events/details/business-after-hours-6228
END:VEVENT

END:VCALENDAR
