BEGIN:VCALENDAR
VERSION:2.0
PRODID:-//ChamberMaster//Event Calendar 2.0//EN
METHOD:PUBLISH
X-PUBLISHED-TTL:P3D
REFRESH-INTERVAL:P3D
CALSCALE:GREGORIAN
BEGIN:VEVENT
DTSTART:20230328T210000Z
DTEND:20230328T230000Z
X-MICROSOFT-CDO-ALLDAYEVENT:FALSE
SUMMARY:Business After Hours
DESCRIPTION:Join us on March 28th\, 5PM-7PM at APG and network with people who make business happen in the Anderson area. Enjoy appetizers\, drink specials and door prizes!
X-ALT-DESC;FMTTYPE=text/html:<span style="color: rgb(0\, 0\, 0)\; font-family: Arial\, Verdana\, Helvetica\, sans-serif\; font-size: 16px\; text-align: center\; white-space: pre-wrap\;">Join us on March 28th\, 5PM-7PM at APG and network with people who make business happen in the Anderson area. Enjoy appetizers\, drink specials and door prizes!</span>
LOCATION:8060 Beechmont Ave. Cincinnati\, OH 45255
UID:e.873.6253
SEQUENCE:3
DTSTAMP:20260425T192413Z
URL:https://www.andersonareachamber.org/events/details/business-after-hours-6253
END:VEVENT

END:VCALENDAR
