BEGIN:VCALENDAR
VERSION:2.0
PRODID:-//ChamberMaster//Event Calendar 2.0//EN
METHOD:PUBLISH
X-PUBLISHED-TTL:P3D
REFRESH-INTERVAL:P3D
CALSCALE:GREGORIAN
BEGIN:VEVENT
DTSTART:20230419T210000Z
DTEND:20230419T230000Z
X-MICROSOFT-CDO-ALLDAYEVENT:FALSE
SUMMARY:Business After Hours
DESCRIPTION:Business After Hours\n\nWednesday\, April 19\, 2023\n\n5pm-7pm\n\n\n\nJoin us for networking\, drinks and great food at ATP. This is a FREE event! Guests are welcome! Bring a co-worker\, a spouse or a friend.
X-ALT-DESC;FMTTYPE=text/html:<span style="font-size:14px\;"><span style="font-family:arial\;"><strong>Business After Hours</strong><br />\nWednesday\, April 19\, 2023<br />\n5pm-7pm<br />\n<br />\nJoin us for networking\, drinks and great food at ATP. This is a <u>FREE</u> event! Guests are welcome! Bring a co-worker\, a spouse or a friend.</span></span>
LOCATION:Anderson Township Pub 6694 Clough Pike Cincinnati\, OH 45244
UID:e.873.6259
SEQUENCE:3
DTSTAMP:20260425T181502Z
URL:https://www.andersonareachamber.org/events/details/business-after-hours-6259
END:VEVENT

END:VCALENDAR
