BEGIN:VCALENDAR
VERSION:2.0
PRODID:-//ChamberMaster//Event Calendar 2.0//EN
METHOD:PUBLISH
X-PUBLISHED-TTL:P3D
REFRESH-INTERVAL:P3D
CALSCALE:GREGORIAN
BEGIN:VEVENT
DTSTART:20230719T210000Z
DTEND:20230719T230000Z
X-MICROSOFT-CDO-ALLDAYEVENT:FALSE
SUMMARY:Business After Hours
DESCRIPTION:Join us for a Chamber After Hours at Anderson Tap House .You must be a chamber member and you must register. Free appetizers and happy hour pricing on all drinks.
X-ALT-DESC;FMTTYPE=text/html:Join us for a Chamber After Hours at Anderson Tap House .You must be a chamber member and you must register. Free appetizers and happy hour pricing on all drinks.<br />\n<br />\n&nbsp\;
LOCATION:Anderson Tap House 7480 Beechmont Ave. Cincinnati\, Ohio 45255
UID:e.873.6280
SEQUENCE:3
DTSTAMP:20260425T132701Z
URL:https://www.andersonareachamber.org/events/details/business-after-hours-6280
END:VEVENT

END:VCALENDAR
