BEGIN:VCALENDAR
VERSION:2.0
PRODID:-//ChamberMaster//Event Calendar 2.0//EN
METHOD:PUBLISH
X-PUBLISHED-TTL:P3D
REFRESH-INTERVAL:P3D
CALSCALE:GREGORIAN
BEGIN:VEVENT
DTSTART:20241029T120000Z
DTEND:20241029T133000Z
X-MICROSOFT-CDO-ALLDAYEVENT:FALSE
SUMMARY:Cybersecurity Breakfast
DESCRIPTION:October is Cybersecurity Month!\n\n\n\n\n \nDon't be SCARED:\n\nJoin us and learn how to better manage your personal\, professional\, and business digital footprint\n \n\nExpert: \n\nEd Stogner\n\nOwner/President \n\nTeamLogic IT
X-ALT-DESC;FMTTYPE=text/html:<h1 style="text-align: center\;"><br />\n<br />\n<strong>October is Cybersecurity Month!</strong></h1>\n<br />\n<br />\n&nbsp\;\n<h1 style="text-align: center\;">Don&#39\;t be <span style="color:#FF8C00\;">SCARED</span>:</h1>\n\n<h1 style="text-align: center\;">Join us and learn how to better manage your personal\, professional\, and business <strong>digital footprint</strong></h1>\n&nbsp\;\n\n<h2 style="text-align: center\;"><strong>Expert: </strong></h2>\n\n<h2 style="text-align: center\;"><strong>Ed Stogner</strong></h2>\n\n<h2 style="text-align: center\;"><strong>Owner/President&nbsp\;</strong></h2>\n\n<h2 style="text-align: center\;"><strong>TeamLogic IT</strong></h2>\n
LOCATION:Anderson Center 7850 Five Mile Road Cincinnati\, OH 45230 Community Meeting Room B
UID:e.873.7588
SEQUENCE:3
DTSTAMP:20260423T082112Z
URL:https://www.andersonareachamber.org/events/details/cybersecurity-breakfast-7588
END:VEVENT

END:VCALENDAR
