BEGIN:VCALENDAR
VERSION:2.0
PRODID:-//ChamberMaster//Event Calendar 2.0//EN
METHOD:PUBLISH
X-PUBLISHED-TTL:P3D
REFRESH-INTERVAL:P3D
CALSCALE:GREGORIAN
BEGIN:VEVENT
DTSTART;VALUE=DATE:20260910
DTEND;VALUE=DATE:20260911
TRANSP:TRANSPARENT
X-MICROSOFT-CDO-ALLDAYEVENT:TRUE
SUMMARY:Hoxworth 12th Annual Golf Outing
DESCRIPTION:Support Hoxworth Blood Center's mission to save lives by helping fund a new mobile blood drive bus! Bringing lifesaving donations directly to our community.\n\nAll proceeds from the outing will go toward expanding our mobile blood drive efforts\, making it easier than ever for donors to give back.
X-ALT-DESC;FMTTYPE=text/html:<p>Support Hoxworth Blood Center&rsquo\;s mission to save lives by helping fund a new mobile blood drive bus! Bringing lifesaving donations directly to our community.</p>\n\n<p>All proceeds from the outing will go toward expanding our mobile blood drive efforts\, making it easier than ever for donors to give back.</p>\n
LOCATION:Losantiville Country Club\, 3097 Losantiville Avenue Cincinnati\, OH 45213
UID:e.873.8140
SEQUENCE:3
DTSTAMP:20260424T085502Z
URL:https://www.andersonareachamber.org/events/details/hoxworth-12th-annual-golf-outing-8140
END:VEVENT

END:VCALENDAR
