BEGIN:VCALENDAR
VERSION:2.0
PRODID:-//ChamberMaster//Event Calendar 2.0//EN
METHOD:PUBLISH
X-PUBLISHED-TTL:P3D
REFRESH-INTERVAL:P3D
CALSCALE:GREGORIAN
BEGIN:VEVENT
DTSTART:20230302T164500Z
DTEND:20230302T180000Z
X-MICROSOFT-CDO-ALLDAYEVENT:FALSE
SUMMARY:Membership Meeting - 3/2/2023
DESCRIPTION:Monthly Membership Meeting\nGuest Speakers: \n\nMatt Appenzeller - Executive Director\, SOCA\n\nDale Essenmacher - Regional Vice President\, NEWPORT - Ascensus\n\n\n\nThe Federal Government pass a robust retirement plan legislation in December 2022 named SECURE 2.0. Whether you currently have a retirement plan or looking to start a plan\, this legislation will have far reaching impact to your business. Dale Essenmacher\, from Newport will be presenting a high level overview on the important items you need to know about this bill\, including some mandatory requirements you will expected to implement over the next few years. Please come to learn the changes you will need to know and implement for your employees.
X-ALT-DESC;FMTTYPE=text/html:<div style="text-align: center\;"><span style="font-size:14px\;"><span style="font-family:arial\;"><strong><span style="font-size:18px\;">Monthly Membership Meeting</span></strong></span></span></div>\n<span style="font-size:14px\;"><span style="font-family:arial\;"><strong><span style="font-size:16px\;">Guest Speakers:&nbsp\;</span></strong><br />\n<strong>Matt Appenzeller</strong> - Executive Director\, SOCA<br />\n<span style="color: rgb(0\, 0\, 0)\; font-weight: bold\; text-align: center\; white-space: pre-wrap\;">Dale Essenmacher - </span><span style="color: rgb(0\, 0\, 0)\; text-align: center\; white-space: pre-wrap\;">Regional Vice President\, NEWPORT - Ascensus</span></span><br />\n<br />\nThe Federal Government pass a robust retirement plan legislation in December 2022 named SECURE 2.0. Whether you currently have a retirement plan or looking to start a plan\, this legislation will have far reaching impact to your business. Dale Essenmacher\, from Newport will be presenting a high level overview on the important items you need to know about this bill\, including some mandatory requirements you will expected to implement over the next few years. Please come to learn the changes you will need to know and implement for your employees.</span><br />\n&nbsp\;
LOCATION:Anderson Center Community Meeting Room 7850 Five Mile Rd. Cincinnati\, OH 452
UID:e.873.6251
SEQUENCE:3
DTSTAMP:20260425T192841Z
URL:https://www.andersonareachamber.org/events/details/membership-meeting-3-2-2023-6251
END:VEVENT

END:VCALENDAR
