BEGIN:VCALENDAR
VERSION:2.0
PRODID:-//ChamberMaster//Event Calendar 2.0//EN
METHOD:PUBLISH
X-PUBLISHED-TTL:P3D
REFRESH-INTERVAL:P3D
CALSCALE:GREGORIAN
BEGIN:VEVENT
DTSTART:20240307T164500Z
DTEND:20240307T180000Z
X-MICROSOFT-CDO-ALLDAYEVENT:FALSE
SUMMARY:Monthly Membership Meeting - 3/7/2024
DESCRIPTION:Membership Meeting\n\nJoin us at the Chamber Monthly Meeting.  A great way to network with likeminded local business owners and decision makers.  You will also have the opportunity to promote your business by distributing marketing materials to all attendees if you so desire.\n\n\n\nSpeaker:  Bryan Rambow\, Founder\n\n                    RAMBOWSEO\n\n\n\nTopic:  Local Map Pack of Google
X-ALT-DESC;FMTTYPE=text/html:<p style="text-align: center\;"><span style="color:#000000\;"><span style="font-size: 16px\;"><span style="font-family: arial\;"><strong>&nbsp\;Membership Meeting</strong></span></span></span></p>\n\n<p><font color="#000000" face="arial"><span style="font-size: 14px\;">Join us at the Chamber Monthly Meeting.&nbsp\; A great way to network with likeminded local business owners and decision makers.&nbsp\; You will also have the opportunity to promote your business by distributing marketing materials to all attendees if you so desire.</span></font><br />\n<br />\n<span style="font-size:14px\;"><span style="font-family:arial\;"><strong><span style="font-size:16px\;">Speaker:&nbsp\;</span></strong>&nbsp\;Bryan Rambow\, Founder<br />\n&nbsp\; &nbsp\; &nbsp\; &nbsp\; &nbsp\; &nbsp\; &nbsp\; &nbsp\; &nbsp\; &nbsp\;&nbsp\;</span></span><a data-auth="Verified" data-linkindex="11" href="https://nam12.safelinks.protection.outlook.com/?url=https%3A%2F%2Frambowseo.com%2F&amp\;data=05%7C02%7Cellen%40andersonareachamber.org%7C4bb0b3e3b95241ca18fd08dc2fd51d1e%7Ca494dc7471124eeea1e45f7bf89fa237%7C0%7C0%7C638437839593878518%7CUnknown%7CTWFpbGZsb3d8eyJWIjoiMC4wLjAwMDAiLCJQIjoiV2luMzIiLCJBTiI6Ik1haWwiLCJXVCI6Mn0%3D%7C0%7C%7C%7C&amp\;sdata=pIWYGDLsK5CocAm20GyXi5LvBeWRl%2FfOQ146PIjHbGE%3D&amp\;reserved=0" originalsrc="https://rambowseo.com/" rel="noopener noreferrer" shash="PHUp9SQ37yk7TPGSBJSskuSxEDKTOULxAcmDoY/EzC4dY32VE81ONeCVG3vUnh6jjREEa4tckV6lAzWs8cv5QHSLT77tR976gx0U2qcZrjyjRgl99Mts/yPuFJYIijeLl2U6mkQMvCQi/YVlI/wZo4Xv5oWVYGVMCBoGeQMJLjU=" style="font-style: inherit\; font-variant: inherit\; text-align: center\; border: 0px\; font-weight: bold\; font-stretch: inherit\; font-size: 17px\; line-height: inherit\; font-family: Arial\, Verdana\, Helvetica\, sans-serif\; font-optical-sizing: inherit\; font-kerning: inherit\; font-feature-settings: inherit\; font-variation-settings: inherit\; margin: 0px\; padding: 0px\; vertical-align: baseline\; color: rgb(233\, 76\, 58) !important\;" target="_blank" title="Original URL: https://rambowseo.com/. Click or tap if you trust this link.">RAMBOW</a><a data-auth="Verified" data-linkindex="12" href="https://nam12.safelinks.protection.outlook.com/?url=https%3A%2F%2Frambowseo.com%2F&amp\;data=05%7C02%7Cellen%40andersonareachamber.org%7C4bb0b3e3b95241ca18fd08dc2fd51d1e%7Ca494dc7471124eeea1e45f7bf89fa237%7C0%7C0%7C638437839593885214%7CUnknown%7CTWFpbGZsb3d8eyJWIjoiMC4wLjAwMDAiLCJQIjoiV2luMzIiLCJBTiI6Ik1haWwiLCJXVCI6Mn0%3D%7C0%7C%7C%7C&amp\;sdata=GqVU0TTbRXEfv5FMqjUj9n598IgeWFPkd5S8vZ0BEWI%3D&amp\;reserved=0" originalsrc="https://rambowseo.com/" rel="noopener noreferrer" shash="iXmVr41xVdu0PzXm+hLhgbJ2M0IySEUTrckE7VFXqK0Krork/s14qqxGM5N1XqimpyD/wjHgq8jkd0ya3mvel5ZnVD3d5CBp8LPbhdCR+6KnUyRGeIip+2H8gkzDl3VWHGxxHosnSEmyYdwjmvGjsbCITGOiKYZ/KR/VtMHgbzo=" style="font-style: inherit\; font-variant: inherit\; text-align: center\; border: 0px\; font-weight: bold\; font-stretch: inherit\; font-size: 17px\; line-height: inherit\; font-family: Arial\, Verdana\, Helvetica\, sans-serif\; font-optical-sizing: inherit\; font-kerning: inherit\; font-feature-settings: inherit\; font-variation-settings: inherit\; margin: 0px\; padding: 0px\; vertical-align: baseline\; color: rgb(40\, 79\, 161) !important\;" target="_blank" title="Original URL: https://rambowseo.com/. Click or tap if you trust this link.">SEO</a><br />\n<br />\n<strong><span style="font-size:16px\;"><span style="font-family:arial\;">Topic:</span></span></strong>&nbsp\;<span style="font-size:14px\;"><span style="font-family:arial\;"><strong><em>&nbsp\;</em></strong><span style="color: rgb(0\, 0\, 0)\; font-style: italic\; text-align: center\;">Local Map Pack of Google</span></span></span></p>\n
LOCATION:Anderson Center Community Meeting Room 7850 Five Mile Rd. Cincinnati\, OH 45230
UID:e.873.7338
SEQUENCE:3
DTSTAMP:20260421T082929Z
URL:https://www.andersonareachamber.org/events/details/monthly-membership-meeting-3-7-2024-7338
END:VEVENT

END:VCALENDAR
