BEGIN:VCALENDAR
VERSION:2.0
PRODID:-//ChamberMaster//Event Calendar 2.0//EN
METHOD:PUBLISH
X-PUBLISHED-TTL:P3D
REFRESH-INTERVAL:P3D
CALSCALE:GREGORIAN
BEGIN:VEVENT
DTSTART:20240905T154500Z
DTEND:20240905T170000Z
X-MICROSOFT-CDO-ALLDAYEVENT:FALSE
SUMMARY:Monthly Membership Meeting - 9/5/2024
DESCRIPTION:Membership Meeting\n\nJoin us at the Chamber Monthly Meeting.  A great way to network with likeminded local business owners and decision makers.  You will also have the opportunity to promote your business by distributing marketing materials to all attendees if you so desire.\n\n\n\nSpeaker:  Vicky Earhart\, Township Administrator\n\n\n\nTopic:  Anderson Township Public Safety Update
X-ALT-DESC;FMTTYPE=text/html:<p style="text-align: center\;"><span style="color:#000000\;"><span style="font-size: 16px\;"><span style="font-family: arial\;"><strong>&nbsp\;Membership Meeting</strong></span></span></span></p>\n\n<p><font color="#000000" face="arial"><span style="font-size: 14px\;">Join us at the Chamber Monthly Meeting.&nbsp\; A great way to network with likeminded local business owners and decision makers.&nbsp\; You will also have the opportunity to promote your business by distributing marketing materials to all attendees if you so desire.</span></font><br />\n<br />\n<span style="font-size:14px\;"><span style="font-family:arial\;"><strong><span style="font-size:16px\;">Speaker:&nbsp\;</span></strong>&nbsp\;Vicky Earhart\, Township Administrator</span></span><br />\n<br />\n<strong><span style="font-size:16px\;"><span style="font-family:arial\;">Topic:</span></span></strong>&nbsp\;<span style="font-size:14px\;"><span style="font-family:arial\;"><strong><em>&nbsp\;</em></strong></span><span style="caret-color: rgb(0\, 0\, 0)\; color: rgb(0\, 0\, 0)\; font-family: Arial\, Verdana\, Helvetica\, sans-serif\; font-style: italic\; text-align: center\;">Anderson Township Public Safety Update</span></span></p>\n
LOCATION:Anderson Center Community Meeting Room 7850 Five Mile Rd. Cincinnati\, OH 45230
UID:e.873.7342
SEQUENCE:3
DTSTAMP:20260421T082846Z
URL:https://www.andersonareachamber.org/events/details/monthly-membership-meeting-9-5-2024-7342
END:VEVENT

END:VCALENDAR
