BEGIN:VCALENDAR
VERSION:2.0
PRODID:-//ChamberMaster//Event Calendar 2.0//EN
METHOD:PUBLISH
X-PUBLISHED-TTL:P3D
REFRESH-INTERVAL:P3D
CALSCALE:GREGORIAN
BEGIN:VEVENT
DTSTART:20221116T143000Z
DTEND:20221116T163000Z
X-MICROSOFT-CDO-ALLDAYEVENT:FALSE
SUMMARY:QPR - Suicide Prevention Training Session
DESCRIPTION:The Anderson Chamber in partnership with the Anderson Mental Health Collaborative is pleased to welcome 1N5 who will be hosting a QPR Suicide Prevention Program for the business community. QPR: Just like CPR\, QPR is an emergency response to someone in crisis. Participants will learn how to question a person about suicide\, persuade someone to get help\, and refer someone to appropriate resources.
X-ALT-DESC;FMTTYPE=text/html:The Anderson Chamber in partnership with the Anderson Mental Health Collaborative is pleased to welcome 1N5 who will be hosting a QPR Suicide Prevention Program for the business community. QPR: Just like CPR\, QPR is an emergency response to someone in crisis. Participants will learn how to question a person about suicide\, persuade someone to get help\, and refer someone to appropriate resources.&nbsp\;
LOCATION:Anderson Center 7850 Five Mile Road Cincinnati\, OH 45230
UID:e.873.6221
SEQUENCE:3
DTSTAMP:20260426T013036Z
URL:https://www.andersonareachamber.org/events/details/qpr-suicide-prevention-training-session-6221
END:VEVENT

END:VCALENDAR
