BEGIN:VCALENDAR
VERSION:2.0
PRODID:-//ChamberMaster//Event Calendar 2.0//EN
METHOD:PUBLISH
X-PUBLISHED-TTL:P3D
REFRESH-INTERVAL:P3D
CALSCALE:GREGORIAN
BEGIN:VEVENT
DTSTART:20240927T213000Z
DTEND:20240928T040000Z
X-MICROSOFT-CDO-ALLDAYEVENT:FALSE
SUMMARY:Turpin Homecoming Game Pre-Game and Post Game Social Gatherings
DESCRIPTION:
X-ALT-DESC;FMTTYPE=text/html:
LOCATION:6660 Clough Pike - American Legion Post 318 located on the bottom of Bartels Rd and Clough Pike.
UID:e.873.7587
SEQUENCE:3
DTSTAMP:20260423T084549Z
URL:https://www.andersonareachamber.org/events/details/turpin-homecoming-game-pre-game-and-post-game-social-gatherings-7587
END:VEVENT

END:VCALENDAR
